Workbook

Sheet Underhållsplan
A1: UNDERHÅLLSPLAN
A2: En åtgärd per rad. Skriv år då åtgärden senast gjordes och hur ofta den återkommer – nästa gång räknas ut. En engångsåtgärd: lämna intervallet tomt och skriv året direkt i Nästa gång. Fliken Per år summerar kostnaderna och föreslår en årlig avsättning till underhållsfonden. Kostnader i dagens penningvärde.
A3: Förening och fastighet
A4: Planen upprättad (datum) och av
A6: Byggnadsdel | B6: Åtgärd | C6: Senast utförd (år) | D6: Intervall (år) | E6: Nästa gång | F6: Kostnad per gång | G6: Kommentar
A7: Tak | E7: =IF(OR(C7="",D7=""),0,C7+D7)
A8: Fasad | E8: =IF(OR(C8="",D8=""),0,C8+D8)
A9: Fönster | E9: =IF(OR(C9="",D9=""),0,C9+D9)
A10: Balkonger | E10: =IF(OR(C10="",D10=""),0,C10+D10)
A11: Stammar (vatten och avlopp) | E11: =IF(OR(C11="",D11=""),0,C11+D11)
A12: Elinstallationer | E12: =IF(OR(C12="",D12=""),0,C12+D12)
A13: Ventilation | E13: =IF(OR(C13="",D13=""),0,C13+D13)
A14: Värmesystem | E14: =IF(OR(C14="",D14=""),0,C14+D14)
A15: Hiss | E15: =IF(OR(C15="",D15=""),0,C15+D15)
A16: Trapphus | E16: =IF(OR(C16="",D16=""),0,C16+D16)
A17: Tvättstuga | E17: =IF(OR(C17="",D17=""),0,C17+D17)
A18: Mark och utemiljö | E18: =IF(OR(C18="",D18=""),0,C18+D18)
E19: =IF(OR(C19="",D19=""),0,C19+D19)
E20: =IF(OR(C20="",D20=""),0,C20+D20)
E21: =IF(OR(C21="",D21=""),0,C21+D21)
E22: =IF(OR(C22="",D22=""),0,C22+D22)
E23: =IF(OR(C23="",D23=""),0,C23+D23)
E24: =IF(OR(C24="",D24=""),0,C24+D24)
E25: =IF(OR(C25="",D25=""),0,C25+D25)
E26: =IF(OR(C26="",D26=""),0,C26+D26)
E27: =IF(OR(C27="",D27=""),0,C27+D27)
E28: =IF(OR(C28="",D28=""),0,C28+D28)
E29: =IF(OR(C29="",D29=""),0,C29+D29)
E30: =IF(OR(C30="",D30=""),0,C30+D30)
... E46: =IF(OR(C46="",D46=""),0,C46+D46)

Sheet Per år
A1: UNDERHÅLLSPLAN – PER ÅR
A2: Räknas ut från fliken Underhållsplan. Ändra bara planens första år och bostadsarean.
A4: Planens första år | B4: 2026
A5: Bostadsarea (kvm)
A7: År | B7: Planerade kostnader | C7: Ackumulerat
A8: =B4 | B8: =SUMPRODUCT(Underhållsplan!$F$7:$F$46,--(Underhållsplan!$E$7:$E$46>0),--(A8>=Underhållsplan!$E$7:$E$46),--(MOD(A8-Underhållsplan!$E$7:$E$46,Underhållsplan!$D$7:$D$46+(Underhållsplan!$D$7:$D$46=0))=0),--((Underhållsplan!$D$7:$D$46>0)+(A8=Underhållsplan!$E$7:$E$46)>0)) | C8: =B8
A9: =A8+1 | B9: =SUMPRODUCT(Underhållsplan!$F$7:$F$46,--(Underhållsplan!$E$7:$E$46>0),--(A9>=Underhållsplan!$E$7:$E$46),--(MOD(A9-Underhållsplan!$E$7:$E$46,Underhållsplan!$D$7:$D$46+(Underhållsplan!$D$7:$D$46=0))=0),--((Underhållsplan!$D$7:$D$46>0)+(A9=Underhållsplan!$E$7:$E$46)>0)) | C9: =C8+B9
A10: =A9+1 | B10: =SUMPRODUCT(Underhållsplan!$F$7:$F$46,--(Underhållsplan!$E$7:$E$46>0),--(A10>=Underhållsplan!$E$7:$E$46),--(MOD(A10-Underhållsplan!$E$7:$E$46,Underhållsplan!$D$7:$D$46+(Underhållsplan!$D$7:$D$46=0))=0),--((Underhållsplan!$D$7:$D$46>0)+(A10=Underhållsplan!$E$7:$E$46)>0)) | C10: =C9+B10
A11: =A10+1 | B11: =SUMPRODUCT(Underhållsplan!$F$7:$F$46,--(Underhållsplan!$E$7:$E$46>0),--(A11>=Underhållsplan!$E$7:$E$46),--(MOD(A11-Underhållsplan!$E$7:$E$46,Underhållsplan!$D$7:$D$46+(Underhållsplan!$D$7:$D$46=0))=0),--((Underhållsplan!$D$7:$D$46>0)+(A11=Underhållsplan!$E$7:$E$46)>0)) | C11: =C10+B11
A12: =A11+1 | B12: =SUMPRODUCT(Underhållsplan!$F$7:$F$46,--(Underhållsplan!$E$7:$E$46>0),--(A12>=Underhållsplan!$E$7:$E$46),--(MOD(A12-Underhållsplan!$E$7:$E$46,Underhållsplan!$D$7:$D$46+(Underhållsplan!$D$7:$D$46=0))=0),--((Underhållsplan!$D$7:$D$46>0)+(A12=Underhållsplan!$E$7:$E$46)>0)) | C12: =C11+B12
A13: =A12+1 | B13: =SUMPRODUCT(Underhållsplan!$F$7:$F$46,--(Underhållsplan!$E$7:$E$46>0),--(A13>=Underhållsplan!$E$7:$E$46),--(MOD(A13-Underhållsplan!$E$7:$E$46,Underhållsplan!$D$7:$D$46+(Underhållsplan!$D$7:$D$46=0))=0),--((Underhållsplan!$D$7:$D$46>0)+(A13=Underhållsplan!$E$7:$E$46)>0)) | C13: =C12+B13
A14: =A13+1 | B14: =SUMPRODUCT(Underhållsplan!$F$7:$F$46,--(Underhållsplan!$E$7:$E$46>0),--(A14>=Underhållsplan!$E$7:$E$46),--(MOD(A14-Underhållsplan!$E$7:$E$46,Underhållsplan!$D$7:$D$46+(Underhållsplan!$D$7:$D$46=0))=0),--((Underhållsplan!$D$7:$D$46>0)+(A14=Underhållsplan!$E$7:$E$46)>0)) | C14: =C13+B14
A15: =A14+1 | B15: =SUMPRODUCT(Underhållsplan!$F$7:$F$46,--(Underhållsplan!$E$7:$E$46>0),--(A15>=Underhållsplan!$E$7:$E$46),--(MOD(A15-Underhållsplan!$E$7:$E$46,Underhållsplan!$D$7:$D$46+(Underhållsplan!$D$7:$D$46=0))=0),--((Underhållsplan!$D$7:$D$46>0)+(A15=Underhållsplan!$E$7:$E$46)>0)) | C15: =C14+B15
A16: =A15+1 | B16: =SUMPRODUCT(Underhållsplan!$F$7:$F$46,--(Underhållsplan!$E$7:$E$46>0),--(A16>=Underhållsplan!$E$7:$E$46),--(MOD(A16-Underhållsplan!$E$7:$E$46,Underhållsplan!$D$7:$D$46+(Underhållsplan!$D$7:$D$46=0))=0),--((Underhållsplan!$D$7:$D$46>0)+(A16=Underhållsplan!$E$7:$E$46)>0)) | C16: =C15+B16
A17: =A16+1 | B17: =SUMPRODUCT(Underhållsplan!$F$7:$F$46,--(Underhållsplan!$E$7:$E$46>0),--(A17>=Underhållsplan!$E$7:$E$46),--(MOD(A17-Underhållsplan!$E$7:$E$46,Underhållsplan!$D$7:$D$46+(Underhållsplan!$D$7:$D$46=0))=0),--((Underhållsplan!$D$7:$D$46>0)+(A17=Underhållsplan!$E$7:$E$46)>0)) | C17: =C16+B17
A18: =A17+1 | B18: =SUMPRODUCT(Underhållsplan!$F$7:$F$46,--(Underhållsplan!$E$7:$E$46>0),--(A18>=Underhållsplan!$E$7:$E$46),--(MOD(A18-Underhållsplan!$E$7:$E$46,Underhållsplan!$D$7:$D$46+(Underhållsplan!$D$7:$D$46=0))=0),--((Underhållsplan!$D$7:$D$46>0)+(A18=Underhållsplan!$E$7:$E$46)>0)) | C18: =C17+B18
A19: =A18+1 | B19: =SUMPRODUCT(Underhållsplan!$F$7:$F$46,--(Underhållsplan!$E$7:$E$46>0),--(A19>=Underhållsplan!$E$7:$E$46),--(MOD(A19-Underhållsplan!$E$7:$E$46,Underhållsplan!$D$7:$D$46+(Underhållsplan!$D$7:$D$46=0))=0),--((Underhållsplan!$D$7:$D$46>0)+(A19=Underhållsplan!$E$7:$E$46)>0)) | C19: =C18+B19
A20: =A19+1 | B20: =SUMPRODUCT(Underhållsplan!$F$7:$F$46,--(Underhållsplan!$E$7:$E$46>0),--(A20>=Underhållsplan!$E$7:$E$46),--(MOD(A20-Underhållsplan!$E$7:$E$46,Underhållsplan!$D$7:$D$46+(Underhållsplan!$D$7:$D$46=0))=0),--((Underhållsplan!$D$7:$D$46>0)+(A20=Underhållsplan!$E$7:$E$46)>0)) | C20: =C19+B20
... A37: =A36+1 | B37: =SUMPRODUCT(Underhållsplan!$F$7:$F$46,--(Underhållsplan!$E$7:$E$46>0),--(A37>=Underhållsplan!$E$7:$E$46),--(MOD(A37-Underhållsplan!$E$7:$E$46,Underhållsplan!$D$7:$D$46+(Underhållsplan!$D$7:$D$46=0))=0),--((Underhållsplan!$D$7:$D$46>0)+(A37=Underhållsplan!$E$7:$E$46)>0)) | C37: =C36+B37
A39: Avsättning till underhållsfonden
A40: Summa planerade kostnader (30 år) | C40: =SUM(B8:B37)
A41: Jämn årlig avsättning | C41: =C40/30
A42: Per kvm bostadsarea och år | C42: =IF(N(B5)=0,"",C41/B5)
A43: Den jämna avsättningen är ett räkneexempel, inte ett krav: hur mycket föreningen ska avsätta står i stadgarna och beslutas av styrelsen eller stämman. Räkna om planen när en åtgärd är gjord eller kostnaderna ändras.
