Workbook

Sheet Årshjul
A1: ÅRSHJUL
A2: En aktivitet per rad under rätt månad. Välj område och skriv Ja i Klart när den är gjord – fliken Översikt räknar vad som återstår per månad och område.
A4: Organisation
A5: År
A6: Ansvarig för årshjulet
A8: Månad | B8: Aktivitet | C8: Område | D8: Ansvarig | E8: Deadline | F8: Klart
A9: Januari
A10: Januari
A11: Januari
A12: Januari
A13: Januari
A14: Januari
A15: Februari
A16: Februari
A17: Februari
A18: Februari
A19: Februari
A20: Februari
... A80: December

Sheet Översikt
A1: ÅRSHJUL – ÖVERSIKT
A2: Räknas ut från fliken Årshjul. Inget behöver fyllas i här.
A4: Månad | B4: Aktiviteter | C4: Klara | D4: Kvar
A5: Januari | B5: =COUNTIFS(Årshjul!$A$9:$A$80,A5,Årshjul!$B$9:$B$80,"<>") | C5: =COUNTIFS(Årshjul!$A$9:$A$80,A5,Årshjul!$B$9:$B$80,"<>",Årshjul!$F$9:$F$80,"Ja") | D5: =B5-C5
A6: Februari | B6: =COUNTIFS(Årshjul!$A$9:$A$80,A6,Årshjul!$B$9:$B$80,"<>") | C6: =COUNTIFS(Årshjul!$A$9:$A$80,A6,Årshjul!$B$9:$B$80,"<>",Årshjul!$F$9:$F$80,"Ja") | D6: =B6-C6
A7: Mars | B7: =COUNTIFS(Årshjul!$A$9:$A$80,A7,Årshjul!$B$9:$B$80,"<>") | C7: =COUNTIFS(Årshjul!$A$9:$A$80,A7,Årshjul!$B$9:$B$80,"<>",Årshjul!$F$9:$F$80,"Ja") | D7: =B7-C7
A8: April | B8: =COUNTIFS(Årshjul!$A$9:$A$80,A8,Årshjul!$B$9:$B$80,"<>") | C8: =COUNTIFS(Årshjul!$A$9:$A$80,A8,Årshjul!$B$9:$B$80,"<>",Årshjul!$F$9:$F$80,"Ja") | D8: =B8-C8
A9: Maj | B9: =COUNTIFS(Årshjul!$A$9:$A$80,A9,Årshjul!$B$9:$B$80,"<>") | C9: =COUNTIFS(Årshjul!$A$9:$A$80,A9,Årshjul!$B$9:$B$80,"<>",Årshjul!$F$9:$F$80,"Ja") | D9: =B9-C9
A10: Juni | B10: =COUNTIFS(Årshjul!$A$9:$A$80,A10,Årshjul!$B$9:$B$80,"<>") | C10: =COUNTIFS(Årshjul!$A$9:$A$80,A10,Årshjul!$B$9:$B$80,"<>",Årshjul!$F$9:$F$80,"Ja") | D10: =B10-C10
A11: Juli | B11: =COUNTIFS(Årshjul!$A$9:$A$80,A11,Årshjul!$B$9:$B$80,"<>") | C11: =COUNTIFS(Årshjul!$A$9:$A$80,A11,Årshjul!$B$9:$B$80,"<>",Årshjul!$F$9:$F$80,"Ja") | D11: =B11-C11
A12: Augusti | B12: =COUNTIFS(Årshjul!$A$9:$A$80,A12,Årshjul!$B$9:$B$80,"<>") | C12: =COUNTIFS(Årshjul!$A$9:$A$80,A12,Årshjul!$B$9:$B$80,"<>",Årshjul!$F$9:$F$80,"Ja") | D12: =B12-C12
A13: September | B13: =COUNTIFS(Årshjul!$A$9:$A$80,A13,Årshjul!$B$9:$B$80,"<>") | C13: =COUNTIFS(Årshjul!$A$9:$A$80,A13,Årshjul!$B$9:$B$80,"<>",Årshjul!$F$9:$F$80,"Ja") | D13: =B13-C13
A14: Oktober | B14: =COUNTIFS(Årshjul!$A$9:$A$80,A14,Årshjul!$B$9:$B$80,"<>") | C14: =COUNTIFS(Årshjul!$A$9:$A$80,A14,Årshjul!$B$9:$B$80,"<>",Årshjul!$F$9:$F$80,"Ja") | D14: =B14-C14
A15: November | B15: =COUNTIFS(Årshjul!$A$9:$A$80,A15,Årshjul!$B$9:$B$80,"<>") | C15: =COUNTIFS(Årshjul!$A$9:$A$80,A15,Årshjul!$B$9:$B$80,"<>",Årshjul!$F$9:$F$80,"Ja") | D15: =B15-C15
A16: December | B16: =COUNTIFS(Årshjul!$A$9:$A$80,A16,Årshjul!$B$9:$B$80,"<>") | C16: =COUNTIFS(Årshjul!$A$9:$A$80,A16,Årshjul!$B$9:$B$80,"<>",Årshjul!$F$9:$F$80,"Ja") | D16: =B16-C16
A17: Hela året | B17: =SUM(B5:B16) | C17: =SUM(C5:C16) | D17: =SUM(D5:D16)
A19: Område | B19: Aktiviteter | C19: Klara | D19: Kvar
A20: Ekonomi | B20: =COUNTIFS(Årshjul!$C$9:$C$80,A20,Årshjul!$B$9:$B$80,"<>") | C20: =COUNTIFS(Årshjul!$C$9:$C$80,A20,Årshjul!$B$9:$B$80,"<>",Årshjul!$F$9:$F$80,"Ja") | D20: =B20-C20
A21: Skatt och moms | B21: =COUNTIFS(Årshjul!$C$9:$C$80,A21,Årshjul!$B$9:$B$80,"<>") | C21: =COUNTIFS(Årshjul!$C$9:$C$80,A21,Årshjul!$B$9:$B$80,"<>",Årshjul!$F$9:$F$80,"Ja") | D21: =B21-C21
A22: Styrelse och stämma | B22: =COUNTIFS(Årshjul!$C$9:$C$80,A22,Årshjul!$B$9:$B$80,"<>") | C22: =COUNTIFS(Årshjul!$C$9:$C$80,A22,Årshjul!$B$9:$B$80,"<>",Årshjul!$F$9:$F$80,"Ja") | D22: =B22-C22
A23: Personal | B23: =COUNTIFS(Årshjul!$C$9:$C$80,A23,Årshjul!$B$9:$B$80,"<>") | C23: =COUNTIFS(Årshjul!$C$9:$C$80,A23,Årshjul!$B$9:$B$80,"<>",Årshjul!$F$9:$F$80,"Ja") | D23: =B23-C23
A24: Arbetsmiljö | B24: =COUNTIFS(Årshjul!$C$9:$C$80,A24,Årshjul!$B$9:$B$80,"<>") | C24: =COUNTIFS(Årshjul!$C$9:$C$80,A24,Årshjul!$B$9:$B$80,"<>",Årshjul!$F$9:$F$80,"Ja") | D24: =B24-C24
A25: Marknad och sälj | B25: =COUNTIFS(Årshjul!$C$9:$C$80,A25,Årshjul!$B$9:$B$80,"<>") | C25: =COUNTIFS(Årshjul!$C$9:$C$80,A25,Årshjul!$B$9:$B$80,"<>",Årshjul!$F$9:$F$80,"Ja") | D25: =B25-C25
A26: Verksamhet | B26: =COUNTIFS(Årshjul!$C$9:$C$80,A26,Årshjul!$B$9:$B$80,"<>") | C26: =COUNTIFS(Årshjul!$C$9:$C$80,A26,Årshjul!$B$9:$B$80,"<>",Årshjul!$F$9:$F$80,"Ja") | D26: =B26-C26
A27: Övrigt | B27: =COUNTIFS(Årshjul!$C$9:$C$80,A27,Årshjul!$B$9:$B$80,"<>") | C27: =COUNTIFS(Årshjul!$C$9:$C$80,A27,Årshjul!$B$9:$B$80,"<>",Årshjul!$F$9:$F$80,"Ja") | D27: =B27-C27
A29: Aktiviteter utan område räknas i månadsöversikten men inte per område.
